BEGIN:VCALENDAR
VERSION:2.0
PRODID:-//OmniMagnetCalendar//EN
BEGIN:VEVENT
DTSTAMP:20190625T195740Z
STATUS:CONFIRMED
UID:losangeles.illiniclub.org153
DTSTART:20260516T160000Z
DTEND:20260516T190000Z
LOCATION:LA Food Bank,  ​1701 E. 41st Place, Los Angeles, CA, 90058,
SUMMARY:LA Illini Service Project
DESCRIPTION:Volunteer to help with us at the LA Food Bank to help fire victims in need. Help us sort, inspect, and repackage donated food items from local food drives before they get distributed to those in need.
BEGIN:VALARM
TRIGGER:-PT15M
ACTION:DISPLAY
END:VALARM
TRANSP:OPAQUE
END:VEVENT
END:VCALENDAR
