BEGIN:VCALENDAR
VERSION:2.0
PRODID:-//OmniMagnetCalendar//EN
BEGIN:VEVENT
DTSTAMP:20190625T195740Z
STATUS:CONFIRMED
UID:losangeles.illiniclub.org155
DTSTART:20260711T164500Z
DTEND:20260711T190000Z
LOCATION:Hermosa Beach, Pier Ave, Hermosa Beach, CA, 90254,
SUMMARY:RSVP for the 2026 Big Ten Club Run / Walk
DESCRIPTION:In solidarity with the Big Ten Network 10K, join us on July 11th and proudly wear your orange and blue for an informal Pier-to-Pier Run/Walk from Hermosa Beach to Manhattan Beach and back (roughly 5K). FREE!
BEGIN:VALARM
TRIGGER:-PT15M
ACTION:DISPLAY
END:VALARM
TRANSP:OPAQUE
END:VEVENT
END:VCALENDAR
